BEGIN:VCALENDAR
VERSION:2.0
PRODID:-//NY Metro NSUAA - ECPv6.15.20//NONSGML v1.0//EN
CALSCALE:GREGORIAN
METHOD:PUBLISH
X-WR-CALNAME:NY Metro NSUAA
X-ORIGINAL-URL:https://nymetronsuaa.com
X-WR-CALDESC:Events for NY Metro NSUAA
REFRESH-INTERVAL;VALUE=DURATION:PT1H
X-Robots-Tag:noindex
X-PUBLISHED-TTL:PT1H
BEGIN:VTIMEZONE
TZID:America/New_York
BEGIN:DAYLIGHT
TZOFFSETFROM:-0500
TZOFFSETTO:-0400
TZNAME:EDT
DTSTART:20240310T070000
END:DAYLIGHT
BEGIN:STANDARD
TZOFFSETFROM:-0400
TZOFFSETTO:-0500
TZNAME:EST
DTSTART:20241103T060000
END:STANDARD
BEGIN:DAYLIGHT
TZOFFSETFROM:-0500
TZOFFSETTO:-0400
TZNAME:EDT
DTSTART:20250309T070000
END:DAYLIGHT
BEGIN:STANDARD
TZOFFSETFROM:-0400
TZOFFSETTO:-0500
TZNAME:EST
DTSTART:20251102T060000
END:STANDARD
BEGIN:DAYLIGHT
TZOFFSETFROM:-0500
TZOFFSETTO:-0400
TZNAME:EDT
DTSTART:20260308T070000
END:DAYLIGHT
BEGIN:STANDARD
TZOFFSETFROM:-0400
TZOFFSETTO:-0500
TZNAME:EST
DTSTART:20261101T060000
END:STANDARD
END:VTIMEZONE
BEGIN:VEVENT
DTSTART;TZID=America/New_York:20251122T144500
DTEND;TZID=America/New_York:20251122T160000
DTSTAMP:20260422T061955
CREATED:20251110T163728Z
LAST-MODIFIED:20251110T163728Z
UID:6357-1763822700-1763827200@nymetronsuaa.com
SUMMARY:November Chapter Meeting
DESCRIPTION:The NY Metro Chapter of the NSUAA will be meeting at 2:45 p.m. on Saturday\, November 22 at: \nRow House\n2128 Frederick Douglass Blvd (LOWER LEVEL)\nNYC \nAn agenda will be sent on Thursday\, November 20. We look forward to seeing you there!
URL:https://nymetronsuaa.com/event/november-chapter-meeting/
LOCATION:Row House\, 2128 Frederick Douglass Blvd\, New York\, NY\, 10026\, United States
CATEGORIES:Chapter Meeting
ORGANIZER;CN="NY Metro NSUAA":MAILTO:nymetronsuaa@gmail.com
END:VEVENT
BEGIN:VEVENT
DTSTART;TZID=America/New_York:20250628T134500
DTEND;TZID=America/New_York:20250628T160000
DTSTAMP:20260422T061955
CREATED:20250120T215650Z
LAST-MODIFIED:20250625T201637Z
UID:6098-1751118300-1751126400@nymetronsuaa.com
SUMMARY:Chapter EOY Brunch Meeting
DESCRIPTION:Join us for our final meeting of the year and enjoy brunch with the chapter. Please RSVP to nymetronsuaa@gmail.com if you plan to join us.
URL:https://nymetronsuaa.com/event/chapter-eoy-brunch/
LOCATION:Row House\, 2128 Frederick Douglass Blvd\, New York\, NY\, 10026\, United States
CATEGORIES:Chapter Event,Chapter Meeting
ORGANIZER;CN="NY Metro NSUAA":MAILTO:nymetronsuaa@gmail.com
END:VEVENT
END:VCALENDAR